BEGIN:VCALENDAR
VERSION:2.0
PRODID:icalendar-ruby
CALSCALE:GREGORIAN
METHOD:PUBLISH
BEGIN:VEVENT
DTSTAMP:20260422T011025Z
UID:308-338766@bedfordcommunitychurch.org
DTSTART:20260426T150000Z
DTEND:20260426T161500Z
CLASS:PUBLIC
CREATED:20260421T114821
DESCRIPTION:On April 26th\, during the 11:00 a.m. service\, we will be hold
 ing a membership class!\nIf you've been attending BCC and are looking for 
 the next step\, I invite you to join us. Completing the membership class d
 oes not mean you must become a member\, but it will give you a deeper know
 ledge of our church's mission\, vision\, and values. However\, you need to
  complete this class in order to become a member.\nWe look forward to seei
 ng you! 
LAST-MODIFIED:20260421T114821
LOCATION:Bedford Community Church
SUMMARY:Membership Class
URL;VALUE=URI:https://bedfordcommunitychurch.org/events/membership-class--3
 08/2026-04-26
ATTACH;FILENAME=-Membership-Class--Facebook-App.png;FMTTYPE=image/png:https
 ://dq5pwpg1q8ru0.cloudfront.net/2026/04/21/15/48/21/802b7475-43d8-43da-ab2
 e-371a539a3c65/-Membership-Class--Facebook-App.png
END:VEVENT
END:VCALENDAR
